BEGIN:VCALENDAR
VERSION:2.0
PRODID:spatie/icalendar-generator
DESCRIPTION:Events from Lake County
X-WR-CALDESC:Events from Lake County
REFRESH-INTERVAL;VALUE=DURATION:PT1440M
X-PUBLISHED-TTL:PT1440M
BEGIN:VTIMEZONE
TZID:America/Detroit
BEGIN:STANDARD
DTSTART:20251102T020000Z
TZOFFSETFROM:-0400
TZOFFSETTO:-0500
END:STANDARD
BEGIN:DAYLIGHT
DTSTART:20260308T020000Z
TZOFFSETFROM:-0500
TZOFFSETTO:-0400
END:DAYLIGHT
END:VTIMEZONE
BEGIN:VTIMEZONE
TZID:UTC
BEGIN:STANDARD
DTSTART:20250727T085638Z
TZOFFSETFROM:+0000
TZOFFSETTO:+0000
END:STANDARD
END:VTIMEZONE
BEGIN:VEVENT
UID:129-27
DTSTAMP:20260423T085638Z
SUMMARY:Courthouse Closed 12/24/2025 - 12/25/2025
LOCATION:
ORGANIZER;CN=Michael Flees:MAILTO:mflees@co.lake.mi.us
DTSTART;TZID=America/Detroit;VALUE=DATE:20251224
DTEND;TZID=America/Detroit;VALUE=DATE:20251226
X-ALT-DESC;FMTTYPE=TEXT/HTML:Lake County Courthouse is closed for Christmas
  Day Observance
CATEGORIES:General
URL;VALUE=URI:https://lakecountymi.gov/mc-events/courthouse-closed-12-24-20
 25-12-25-2025/
METHOD:PUBLISH
END:VEVENT
END:VCALENDAR